BEGIN:VCALENDAR
VERSION:2.0
PRODID:http://www.kufer.de/kuferweb / DE
METHOD:PUBLISH
CALSCALE:GREGORIAN
X-WR-TIMEZONE:Europe/Berlin
BEGIN:VTIMEZONE
TZID:Europe/Berlin
X-LIC-LOCATION:Europe/Berlin
BEGIN:DAYLIGHT
TZOFFSETFROM:+0100
TZOFFSETTO:+0200
TZNAME:CEST
DTSTART;TZID=Europe/Berlin:19700329T020000
RRULE:FREQ=YEARLY;INTERVAL=1;BYDAY=-1SU;BYMONTH=3
END:DAYLIGHT
BEGIN:STANDARD
TZOFFSETFROM:+0200
TZOFFSETTO:+0100
TZNAME:CET
DTSTART;TZID=Europe/Berlin:19701025T030000
RRULE:FREQ=YEARLY;INTERVAL=1;BYDAY=-1SU;BYMONTH=10
END:STANDARD
END:VTIMEZONE
BEGIN:VEVENT
DTSTAMP:20260422T192544
DTSTART;TZID=Europe/Berlin:20260729T170000
DTEND;TZID=Europe/Berlin:20260729T183000
UID:BW20260223-20260729T170000@DIÖZESE GRAZ-SECKAU
SUMMARY:"Generation Smartphone" - Chancen und Gefahren dieses Mediums (BW20260223)
LOCATION:Elternberatung Eisenerz, Theodor-Körner-Platz 1/II, 8790 Eisenerz
END:VEVENT
END:VCALENDAR